BEGIN:VCALENDAR
VERSION:2.0
PRODID:spatie/icalendar-generator
DESCRIPTION:Veranstaltungen von Herzebrocker SV von 1925 e.V.
X-WR-CALDESC:Veranstaltungen von Herzebrocker SV von 1925 e.V.
REFRESH-INTERVAL;VALUE=DURATION:PT1440M
X-PUBLISHED-TTL:PT1440M
BEGIN:VTIMEZONE
TZID:Europe/Berlin
BEGIN:STANDARD
DTSTART:20251026T030000Z
TZOFFSETFROM:+0200
TZOFFSETTO:+0100
END:STANDARD
BEGIN:DAYLIGHT
DTSTART:20260329T020000Z
TZOFFSETFROM:+0100
TZOFFSETTO:+0200
END:DAYLIGHT
BEGIN:STANDARD
DTSTART:20261025T030000Z
TZOFFSETFROM:+0200
TZOFFSETTO:+0100
END:STANDARD
END:VTIMEZONE
BEGIN:VTIMEZONE
TZID:UTC
BEGIN:STANDARD
DTSTART:20250728T155809Z
TZOFFSETFROM:+0000
TZOFFSETTO:+0000
END:STANDARD
END:VTIMEZONE
BEGIN:VEVENT
UID:1018-736
DTSTAMP:20260424T155809Z
SUMMARY:Ehrentag
LOCATION:
ORGANIZER;CN=Friedhelm Vielstädte:MAILTO:1.vorstand@herzebrockersv.de
DTSTART;TZID=Europe/Berlin:20260427T180000
DTEND;TZID=Europe/Berlin:20260427T220000
X-ALT-DESC;FMTTYPE=TEXT/HTML:<p>Ansprechpartner Friedhelm Vielstädte</p>\n
CATEGORIES:Vereinsheim
URL;VALUE=URI:https://sport.herzebrockersv.de/mc-events/ehrentag
METHOD:PUBLISH
END:VEVENT
END:VCALENDAR