BEGIN:VCALENDAR
VERSION:2.0
PRODID:spatie/icalendar-generator
DESCRIPTION:Veranstaltungen von Herzebrocker SV von 1925 e.V.
X-WR-CALDESC:Veranstaltungen von Herzebrocker SV von 1925 e.V.
REFRESH-INTERVAL;VALUE=DURATION:PT1440M
X-PUBLISHED-TTL:PT1440M
BEGIN:VTIMEZONE
TZID:Europe/Berlin
BEGIN:STANDARD
DTSTART:20251026T030000Z
TZOFFSETFROM:+0200
TZOFFSETTO:+0100
END:STANDARD
BEGIN:DAYLIGHT
DTSTART:20260329T020000Z
TZOFFSETFROM:+0100
TZOFFSETTO:+0200
END:DAYLIGHT
BEGIN:STANDARD
DTSTART:20261025T030000Z
TZOFFSETFROM:+0200
TZOFFSETTO:+0100
END:STANDARD
END:VTIMEZONE
BEGIN:VTIMEZONE
TZID:UTC
BEGIN:STANDARD
DTSTART:20250726T111046Z
TZOFFSETFROM:+0000
TZOFFSETTO:+0000
END:STANDARD
END:VTIMEZONE
BEGIN:VEVENT
UID:1005-723
DTSTAMP:20260422T111046Z
SUMMARY:Fussball C-Jgd.\, Gütersloh
LOCATION:
ORGANIZER;CN=Rainer Schüller:MAILTO:rainer_schueller@t-online.de
DTSTART;TZID=Europe/Berlin:20260502T113000
DTEND;TZID=Europe/Berlin:20260502T160000
X-ALT-DESC;FMTTYPE=TEXT/HTML:<p>Ansprechpartner Daniel Aciz</p>\n
CATEGORIES:Vereinsbulli,  Fussball
URL;VALUE=URI:https://sport.herzebrockersv.de/mc-events/fussball-c-jgd-guet
 ersloh
METHOD:PUBLISH
END:VEVENT
END:VCALENDAR